BEGIN:VCALENDAR
VERSION:2.0
PRODID:-//ChamberMaster//Event Calendar 2.0//EN
METHOD:PUBLISH
X-PUBLISHED-TTL:P3D
REFRESH-INTERVAL:P3D
CALSCALE:GREGORIAN
BEGIN:VEVENT
DTSTART:20250522T163000Z
DTEND:20250522T180000Z
X-MICROSOFT-CDO-ALLDAYEVENT:FALSE
SUMMARY:2025 State of the City Luncheon
DESCRIPTION:2025 State of the City Luncheon\n\nwith our Mayor Don Warren\n\nfeaturing Graduation of Class 38 Leadership Tyler
X-ALT-DESC;FMTTYPE=text/html:2025 State of the City Luncheon<br />\nwith our Mayor Don Warren<br />\nfeaturing Graduation of Class 38 Leadership Tyler
LOCATION:W. T. Brookshire Conference Center 2000 W. Front Street Tyler 75702
UID:e.1648.15888
SEQUENCE:3
DTSTAMP:20260420T015932Z
URL:http://business.tylertexas.com/events/details/2025-state-of-the-city-luncheon-15888
END:VEVENT

END:VCALENDAR
