BEGIN:VCALENDAR
VERSION:2.0
PRODID:-//ChamberMaster//Event Calendar 2.0//EN
METHOD:PUBLISH
X-PUBLISHED-TTL:P3D
REFRESH-INTERVAL:P3D
CALSCALE:GREGORIAN
BEGIN:VEVENT
DTSTART:20260505T213000Z
DTEND:20260506T000000Z
X-MICROSOFT-CDO-ALLDAYEVENT:FALSE
SUMMARY:Blue Zones Ignite Tyler Community Keynote Event
DESCRIPTION:Health Foundation of East Texas is bringing together civic and community leaders to work with Blue Zones to make healthy choices easier and more accessible for all who live in and visit Tyler\, Texas.
X-ALT-DESC;FMTTYPE=text/html:Health Foundation of East Texas is bringing together civic and community leaders to work with Blue Zones to make healthy choices easier and more accessible for all who live in and visit Tyler\, Texas.
LOCATION:Tyler Rose Garden Center (420 Rose Park Drive)
UID:e.1648.16413
SEQUENCE:3
DTSTAMP:20260421T000900Z
URL:http://business.tylertexas.com/events/details/blue-zones-ignite-tyler-community-keynote-event-16413
END:VEVENT

END:VCALENDAR
