BEGIN:VCALENDAR
VERSION:2.0
PRODID:-//ChamberMaster//Event Calendar 2.0//EN
METHOD:PUBLISH
X-PUBLISHED-TTL:P3D
REFRESH-INTERVAL:P3D
CALSCALE:GREGORIAN
BEGIN:VEVENT
DTSTART:20250607T220000Z
DTEND:20250608T040000Z
X-MICROSOFT-CDO-ALLDAYEVENT:FALSE
SUMMARY:Cattle Barrons Ball
DESCRIPTION:The Cattle Baron's Ball is a fundraiser for the American Cancer Society. This one-of-a-kind evening features great food and drink\, dancing\, a spectacular auction\, and much more.
X-ALT-DESC;FMTTYPE=text/html:The Cattle Baron&#39\;s Ball is a fundraiser for the American Cancer Society. This one-of-a-kind evening features great food and drink\, dancing\, a spectacular auction\, and much more.
LOCATION:Texas Rose Horse Park
UID:e.1648.15937
SEQUENCE:3
DTSTAMP:20260420T000247Z
URL:http://business.tylertexas.com/events/details/cattle-barrons-ball-15937
END:VEVENT

END:VCALENDAR
