BEGIN:VCALENDAR
VERSION:2.0
PRODID:-//ChamberMaster//Event Calendar 2.0//EN
METHOD:PUBLISH
X-PUBLISHED-TTL:P3D
REFRESH-INTERVAL:P3D
CALSCALE:GREGORIAN
BEGIN:VEVENT
DTSTART:20250415T170000Z
DTEND:20250415T190000Z
X-MICROSOFT-CDO-ALLDAYEVENT:FALSE
SUMMARY:Chill Out Day
DESCRIPTION:Come enjoy a FREE Kona Ice on Tax Day! No Taxation Without Relaxation!
X-ALT-DESC;FMTTYPE=text/html:Come enjoy a FREE Kona Ice on Tax Day! No Taxation Without Relaxation!
LOCATION:Tyler Chamber of Commerce Parking Lot
UID:e.1648.16076
SEQUENCE:3
DTSTAMP:20260420T015306Z
URL:http://business.tylertexas.com/events/details/chill-out-day-16076
END:VEVENT

END:VCALENDAR
