BEGIN:VCALENDAR
VERSION:2.0
PRODID:-//ChamberMaster//Event Calendar 2.0//EN
METHOD:PUBLISH
X-PUBLISHED-TTL:P3D
REFRESH-INTERVAL:P3D
CALSCALE:GREGORIAN
BEGIN:VEVENT
DTSTART:20250412T150000Z
DTEND:20250412T190000Z
X-MICROSOFT-CDO-ALLDAYEVENT:FALSE
SUMMARY:Community Health Fair-Spring Into Good Health
DESCRIPTION:Celebrate Public Health Week with a community health fair hosted by UT Tyler and UT Health East Texas. Activities include meeting first responders and receiving health screenings\, educational materials. Food Trucks and delicious options\, along with Fun Games and Activities for All Ages.
X-ALT-DESC;FMTTYPE=text/html:Celebrate Public Health Week with a community health fair hosted by UT Tyler and UT Health East Texas. Activities include meeting first responders and receiving health screenings\, educational materials. Food Trucks and delicious options\, along with Fun Games and Activities for All Ages.
LOCATION:UT Health East Texas Physicians\, 1000 E. Fifth Street\, Tyler\, TX 75701
UID:e.1648.16052
SEQUENCE:3
DTSTAMP:20260420T015809Z
URL:http://business.tylertexas.com/events/details/community-health-fair-spring-into-good-health-16052
END:VEVENT

END:VCALENDAR
