BEGIN:VCALENDAR
VERSION:2.0
PRODID:-//ChamberMaster//Event Calendar 2.0//EN
METHOD:PUBLISH
X-PUBLISHED-TTL:P3D
REFRESH-INTERVAL:P3D
CALSCALE:GREGORIAN
BEGIN:VEVENT
DTSTART:20250531T130000Z
DTEND:20250601T200000Z
X-MICROSOFT-CDO-ALLDAYEVENT:FALSE
SUMMARY:Dallas Dressage Club Spring Horse Show
DESCRIPTION:"the highest expression of horse training" where horse and rider are expected to perform from memory a series of predetermined movements.
X-ALT-DESC;FMTTYPE=text/html:&quot\;the highest expression of horse training&quot\; where horse and rider are expected to perform from memory a series of predetermined movements.
LOCATION:Texas Rose Horse Park
UID:e.1648.15935
SEQUENCE:3
DTSTAMP:20260420T001759Z
URL:http://business.tylertexas.com/events/details/dallas-dressage-club-spring-horse-show-05-31-2025-15935
END:VEVENT

END:VCALENDAR
