BEGIN:VCALENDAR
VERSION:2.0
PRODID:-//ChamberMaster//Event Calendar 2.0//EN
METHOD:PUBLISH
X-PUBLISHED-TTL:P3D
REFRESH-INTERVAL:P3D
CALSCALE:GREGORIAN
BEGIN:VEVENT
DTSTART:20250506T190000Z
DTEND:20250506T210000Z
X-MICROSOFT-CDO-ALLDAYEVENT:FALSE
SUMMARY:East Texas Behavioral Health Summit
DESCRIPTION:Come listen and learn about mental illness and mental healthcare options. Great speakers and more than 80 community resources will be on hand to help you. The Summit is free and open to the public\, but registration is required: https://www.andrewscenter.com/summit/
X-ALT-DESC;FMTTYPE=text/html:Come listen and learn about mental illness and mental healthcare options. Great speakers and more than 80 community resources will be on hand to help you. The Summit is free and open to the public\, but registration is required: https://www.andrewscenter.com/summit/
LOCATION:W.T. Brookshire Conference Center at 2000 W. Front Street
UID:e.1648.16138
SEQUENCE:3
DTSTAMP:20260420T014731Z
URL:http://business.tylertexas.com/events/details/east-texas-behavioral-health-summit-16138
END:VEVENT

END:VCALENDAR
