BEGIN:VCALENDAR
VERSION:2.0
PRODID:-//ChamberMaster//Event Calendar 2.0//EN
METHOD:PUBLISH
X-PUBLISHED-TTL:P3D
REFRESH-INTERVAL:P3D
CALSCALE:GREGORIAN
BEGIN:VEVENT
DTSTART;VALUE=DATE:20250429
DTEND;VALUE=DATE:20250430
TRANSP:TRANSPARENT
X-MICROSOFT-CDO-ALLDAYEVENT:TRUE
SUMMARY:East Texas Giving Day
DESCRIPTION:Support local nonprofits on the region's recognized day of giving back. East Texas Giving Day is an 18-hour day of giving that provides critical funding for our area nonprofits. The purpose of an area-wide Giving Day is to bring the region together on one day and as one community\, raising money and awareness for East Texas nonprofits. This initiative\, organized by East Texas Communities Foundation (ETCF)\, provides the community with an easy platform to support the mission of local nonprofits that serve our region.
X-ALT-DESC;FMTTYPE=text/html:Support local nonprofits on the region&#39\;s recognized day of giving back. East Texas Giving Day is an 18-hour day of giving that provides critical funding for our area nonprofits. The purpose of an area-wide Giving Day is to bring the region together on one day and as one community\, raising money and awareness for East Texas nonprofits. This initiative\, organized by East Texas Communities Foundation (ETCF)\, provides the community with an easy platform to support the mission of local nonprofits that serve our region.
LOCATION:online
UID:e.1648.15971
SEQUENCE:3
DTSTAMP:20260420T031639Z
URL:http://business.tylertexas.com/events/details/east-texas-giving-day-15971
END:VEVENT

END:VCALENDAR
