BEGIN:VCALENDAR
VERSION:2.0
PRODID:-//ChamberMaster//Event Calendar 2.0//EN
METHOD:PUBLISH
X-PUBLISHED-TTL:P3D
REFRESH-INTERVAL:P3D
CALSCALE:GREGORIAN
BEGIN:VEVENT
DTSTART:20250405T130000Z
DTEND:20250406T210000Z
X-MICROSOFT-CDO-ALLDAYEVENT:FALSE
SUMMARY:Feathered Horse Classic
DESCRIPTION:The breed show for All Pure Bred Gypsy Horses. Fun for the entire family to watch!
X-ALT-DESC;FMTTYPE=text/html:The breed show for All Pure Bred Gypsy Horses. Fun for the entire family to watch!
LOCATION:Texas Rose Horse Park
UID:e.1648.15925
SEQUENCE:3
DTSTAMP:20260420T014226Z
URL:http://business.tylertexas.com/events/details/feathered-horse-classic-04-05-2025-15925
END:VEVENT

END:VCALENDAR
