BEGIN:VCALENDAR
VERSION:2.0
PRODID:-//ChamberMaster//Event Calendar 2.0//EN
METHOD:PUBLISH
X-PUBLISHED-TTL:P3D
REFRESH-INTERVAL:P3D
CALSCALE:GREGORIAN
BEGIN:VEVENT
DTSTART:20250614T150000Z
DTEND:20250614T190000Z
X-MICROSOFT-CDO-ALLDAYEVENT:FALSE
SUMMARY:Founder's Day
DESCRIPTION:Join us as we celebrate another year of igniting curiosity and inspiring young minds with this family-friendly event! FREE activities are available to the public from 10am   2pm ONLY\, including: Face Painting Bounce Houses STEM activity stations Snow Cones for purchase FREE museum access from 10:00 am   2:00 pm
X-ALT-DESC;FMTTYPE=text/html:Join us as we celebrate another year of igniting curiosity and inspiring young minds with this family-friendly event! FREE activities are available to the public from 10am &ndash\; 2pm ONLY\, including: Face Painting Bounce Houses STEM activity stations Snow Cones for purchase FREE museum access from 10:00 am &ndash\; 2:00 pm
LOCATION:Discovery Science Place 308 N. Broadway Tyler\, TX 75702
UID:e.1648.16008
SEQUENCE:3
DTSTAMP:20260419T224050Z
URL:http://business.tylertexas.com/events/details/founder-s-day-16008
END:VEVENT

END:VCALENDAR
