BEGIN:VCALENDAR
VERSION:2.0
PRODID:-//ChamberMaster//Event Calendar 2.0//EN
METHOD:PUBLISH
X-PUBLISHED-TTL:P3D
REFRESH-INTERVAL:P3D
CALSCALE:GREGORIAN
BEGIN:VEVENT
DTSTART:20250427T200000Z
DTEND:20250427T210000Z
X-MICROSOFT-CDO-ALLDAYEVENT:FALSE
SUMMARY:Free Talk: Moving Past Fear--to Healing
DESCRIPTION:Fear can seem inevitable--part of who we are. But understanding God's all-embracing love can overcome fear\, reveal peace\, and move life forward.
X-ALT-DESC;FMTTYPE=text/html:Fear can seem inevitable--part of who we are. But understanding God&#39\;s all-embracing love can overcome fear\, reveal peace\, and move life forward.
LOCATION:First Church of Christ\, Scientist 106 East Second Street Tyler\, TX 75701
UID:e.1648.16137
SEQUENCE:3
DTSTAMP:20260420T015757Z
URL:http://business.tylertexas.com/events/details/free-talk-moving-past-fear-to-healing-16137
END:VEVENT

END:VCALENDAR
