BEGIN:VCALENDAR
VERSION:2.0
PRODID:-//ChamberMaster//Event Calendar 2.0//EN
METHOD:PUBLISH
X-PUBLISHED-TTL:P3D
REFRESH-INTERVAL:P3D
CALSCALE:GREGORIAN
BEGIN:VEVENT
DTSTART:20250524T160000Z
DTEND:20250524T200000Z
X-MICROSOFT-CDO-ALLDAYEVENT:FALSE
SUMMARY:Memorial Day Summer Bash
DESCRIPTION:We will have Mix 93.1 \, Rubys Tacos\, Kona Ice\, inflatable games\, obstacle course and Mechanical Bull as well as many vendors on site. We will also be giving away door prizes. Come out and celebrate with us.
X-ALT-DESC;FMTTYPE=text/html:We will have Mix 93.1 \, Rubys Tacos\, Kona Ice\, inflatable games\, obstacle course and Mechanical Bull as well as many vendors on site. We will also be giving away door prizes. Come out and celebrate with us.
LOCATION:Exceptional Emergency Center 2222 Ese Loop 323 Tyler Tx 75701
UID:e.1648.16146
SEQUENCE:3
DTSTAMP:20260420T061510Z
URL:http://business.tylertexas.com/events/details/memorial-day-summer-bash-16146
END:VEVENT

END:VCALENDAR
