BEGIN:VCALENDAR
VERSION:2.0
PRODID:-//ChamberMaster//Event Calendar 2.0//EN
METHOD:PUBLISH
X-PUBLISHED-TTL:P3D
REFRESH-INTERVAL:P3D
CALSCALE:GREGORIAN
BEGIN:VEVENT
DTSTART:20250405T133000Z
DTEND:20250405T170000Z
X-MICROSOFT-CDO-ALLDAYEVENT:FALSE
SUMMARY:People's Law School
DESCRIPTION:This free event is designed to help you better understand your legal rights by learning from experienced attorneys. People's Law School features three 45-minute sessions. During each session\, there will be four class options \, giving you the opportunity to select the topics that are of most interest to you. You have the opportunity to attend up to three different classes of your choice (1 per session). Business law\, tenants' rights\, criminal law\, or immigration issues\, there's something for everyone!
X-ALT-DESC;FMTTYPE=text/html:This free event is designed to help you better understand your legal rights by learning from experienced attorneys. People&#39\;s Law School features three 45-minute sessions. During each session\, there will be four class options \, giving you the opportunity to select the topics that are of most interest to you. You have the opportunity to attend up to three different classes of your choice (1 per session). Business law\, tenants&#39\; rights\, criminal law\, or immigration issues\, there&rsquo\;s something for everyone!
LOCATION:Tyler Junior College Rogers Nursing & Health Sciences Center 1200 East 5th Street
UID:e.1648.16066
SEQUENCE:3
DTSTAMP:20260420T032955Z
URL:http://business.tylertexas.com/events/details/people-s-law-school-04-05-2025-16066
END:VEVENT

END:VCALENDAR
