BEGIN:VCALENDAR
VERSION:2.0
PRODID:-//ChamberMaster//Event Calendar 2.0//EN
METHOD:PUBLISH
X-PUBLISHED-TTL:P3D
REFRESH-INTERVAL:P3D
CALSCALE:GREGORIAN
BEGIN:VEVENT
DTSTART:20250405T200000Z
DTEND:20250406T000000Z
X-MICROSOFT-CDO-ALLDAYEVENT:FALSE
SUMMARY:Pre-Party Health Fair
DESCRIPTION:Join UT Tyler School of Health Professions for a pre-party to celebrate National Public Health Week. This family-friendly event includes live music by Hannah Rose. Juicy J Wings and Sola Bread Co will be on site for delicious eats and we will have participation from local health partners.
X-ALT-DESC;FMTTYPE=text/html:Join UT Tyler School of Health Professions for a pre-party to celebrate National Public Health Week. This family-friendly event includes live music by Hannah Rose. Juicy J Wings and Sola Bread Co will be on site for delicious eats and we will have participation from local health partners.
LOCATION:True Vine Brewing Co.
UID:e.1648.16046
SEQUENCE:3
DTSTAMP:20260420T015606Z
URL:http://business.tylertexas.com/events/details/pre-party-health-fair-16046
END:VEVENT

END:VCALENDAR
