BEGIN:VCALENDAR
VERSION:2.0
PRODID:-//ChamberMaster//Event Calendar 2.0//EN
METHOD:PUBLISH
X-PUBLISHED-TTL:P3D
REFRESH-INTERVAL:P3D
CALSCALE:GREGORIAN
BEGIN:VEVENT
DTSTART:20250426T050000Z
DTEND:20250426T200000Z
X-MICROSOFT-CDO-ALLDAYEVENT:FALSE
SUMMARY:Texas Equestrian Gala benefiting Azelway
DESCRIPTION:The Gala is sold out crowds dressed in jeans and jewels\, Texas wines\, gourmet food\, and live and silent auctions items with appeal to all. The evenings entertainment is a horse jump competition.
X-ALT-DESC;FMTTYPE=text/html:The Gala is sold out crowds dressed in jeans and jewels\, Texas wines\, gourmet food\, and live and silent auctions items with appeal to all. The evenings entertainment is a horse jump competition.
LOCATION:Texas Rose Horse Park
UID:e.1648.15931
SEQUENCE:3
DTSTAMP:20260420T013833Z
URL:http://business.tylertexas.com/events/details/texas-equestrian-gala-benefiting-azelway-15931
END:VEVENT

END:VCALENDAR
