BEGIN:VCALENDAR
VERSION:2.0
PRODID:-//ChamberMaster//Event Calendar 2.0//EN
METHOD:PUBLISH
X-PUBLISHED-TTL:P3D
REFRESH-INTERVAL:P3D
CALSCALE:GREGORIAN
BEGIN:VEVENT
DTSTART:20250503T130000Z
DTEND:20250504T210000Z
X-MICROSOFT-CDO-ALLDAYEVENT:FALSE
SUMMARY:Texas Rose Summer Horse Trials
DESCRIPTION:An equestrian event where horse & rider of all ages and levels compete in three disciplines\, dressage\, cross-country and show jumping
X-ALT-DESC;FMTTYPE=text/html:An equestrian event where horse &amp\; rider of all ages and levels compete in three disciplines\, dressage\, cross-country and show jumping
LOCATION:Texas Rose Horse Park
UID:e.1648.15932
SEQUENCE:3
DTSTAMP:20260420T015607Z
URL:http://business.tylertexas.com/events/details/texas-rose-summer-horse-trials-05-03-2025-15932
END:VEVENT

END:VCALENDAR
