BEGIN:VCALENDAR
VERSION:2.0
PRODID:-//ChamberMaster//Event Calendar 2.0//EN
METHOD:PUBLISH
X-PUBLISHED-TTL:P3D
REFRESH-INTERVAL:P3D
CALSCALE:GREGORIAN
BEGIN:VEVENT
DTSTART:20250606T000000Z
DTEND:20250606T020000Z
X-MICROSOFT-CDO-ALLDAYEVENT:FALSE
SUMMARY:The Bellamy Brothers at Liberty Hall
DESCRIPTION:80s Country stars The Bellamy Brothers will be singing all of their hits in downtown Tyler! You'll hear chart toppers like "Redneck Girl\," "Let Your Love Flow\," and "Old Hippie"\, and that's just the tip of the iceberg! Be sure to get your ticket before they're gone!
X-ALT-DESC;FMTTYPE=text/html:80s Country stars The Bellamy Brothers will be singing all of their hits in downtown Tyler! You&rsquo\;ll hear chart toppers like &ldquo\;Redneck Girl\,&rdquo\; &ldquo\;Let Your Love Flow\,&rdquo\; and &ldquo\;Old Hippie&rdquo\;\, and that&rsquo\;s just the tip of the iceberg! Be sure to get your ticket before they&rsquo\;re gone!
LOCATION:Liberty Hall
UID:e.1648.16057
SEQUENCE:3
DTSTAMP:20260419T225549Z
URL:http://business.tylertexas.com/events/details/the-bellamy-brothers-at-liberty-hall-16057
END:VEVENT

END:VCALENDAR
