BEGIN:VCALENDAR
VERSION:2.0
PRODID:-//ChamberMaster//Event Calendar 2.0//EN
METHOD:PUBLISH
X-PUBLISHED-TTL:P3D
REFRESH-INTERVAL:P3D
CALSCALE:GREGORIAN
BEGIN:VEVENT
DTSTART:20250530T160000Z
DTEND:20250531T050000Z
X-MICROSOFT-CDO-ALLDAYEVENT:FALSE
SUMMARY:Tyler Andy’s Anniversary Celebration!
DESCRIPTION:Andy's opened in Tyler in May 2006. Come celebrate 19 years of Frozen Custard with us Friday\, May 30th\, with buy one get one free sundaes! Customers can enter for a chance to win FREE Andy's for a year with 52 concretes. That's a free concrete a week until May 30th\, 2026! 1 winner at each Tyler store! We can't wait to celebrate with you! *Promo Details: Buy 1 sundae get 1 sundae free of equal or lesser value. Only BOGO for sundaes. Tyler Andy's locations only. May 30th only.
X-ALT-DESC;FMTTYPE=text/html:Andy&#39\;s opened in Tyler in May 2006. Come celebrate 19 years of Frozen Custard with us Friday\, May 30th\, with buy one get one free sundaes! Customers can enter for a chance to win FREE Andy&#39\;s for a year with 52 concretes. That&#39\;s a free concrete a week until May 30th\, 2026! 1 winner at each Tyler store! We can&rsquo\;t wait to celebrate with you! *Promo Details: Buy 1 sundae get 1 sundae free of equal or lesser value. Only BOGO for sundaes. Tyler Andy&rsquo\;s locations only. May 30th only.
LOCATION:Andy's Frozen Custard (Downtown & S. Broadway Locations) 6106 South Broadway Ave\, Tyler 110 North College Avenue Suite 104\, Tyler
UID:e.1648.16143
SEQUENCE:3
DTSTAMP:20260420T000317Z
URL:http://business.tylertexas.com/events/details/tyler-andy-s-anniversary-celebration-16143
END:VEVENT

END:VCALENDAR
