BEGIN:VCALENDAR
VERSION:2.0
PRODID:-//ChamberMaster//Event Calendar 2.0//EN
METHOD:PUBLISH
X-PUBLISHED-TTL:P3D
REFRESH-INTERVAL:P3D
CALSCALE:GREGORIAN
BEGIN:VEVENT
DTSTART:20250609T163000Z
DTEND:20250609T223000Z
X-MICROSOFT-CDO-ALLDAYEVENT:FALSE
SUMMARY:Tyler Area Ambucs Tee Off for Trykes
DESCRIPTION:We are thrilled to announce that the Tyler Area Ambucs will be hosting the Tee Off for Trykes golf tournament on Monday\, June 9\, 2025\, from 1:30 PM to 5:30 PM at the Tempest Golf Club in Gladewater\, Texas. This 4-person scramble event will raise funds directly benefiting the purchase of adapted tricycles\, also known as Amtrykes\, for individuals with disabilities. With your support\, we can offer more individuals the opportunity to ride\, explore\, and participate in our community something that can make a life-changing impact. We've moved to a new location this year\, and we are confident Tempest Golf Club will be the perfect venue for our event. We look forward to seeing you there!
X-ALT-DESC;FMTTYPE=text/html:We are thrilled to announce that the Tyler Area Ambucs will be hosting the Tee Off for Trykes golf tournament on Monday\, June 9\, 2025\, from 1:30 PM to 5:30 PM at the Tempest Golf Club in Gladewater\, Texas. This 4-person scramble event will raise funds directly benefiting the purchase of adapted tricycles\, also known as Amtrykes\, for individuals with disabilities. With your support\, we can offer more individuals the opportunity to ride\, explore\, and participate in our community&mdash\;something that can make a life-changing impact. We&rsquo\;ve moved to a new location this year\, and we are confident Tempest Golf Club will be the perfect venue for our event. We look forward to seeing you there!
LOCATION:Tempest Golf Club\, 568 E Wilkins Road\, Gladewater\, TX 75647
UID:e.1648.16112
SEQUENCE:3
DTSTAMP:20260420T000508Z
URL:http://business.tylertexas.com/events/details/tyler-area-ambucs-tee-off-for-trykes-16112
END:VEVENT

END:VCALENDAR
