BEGIN:VCALENDAR
VERSION:2.0
PRODID:-//ChamberMaster//Event Calendar 2.0//EN
METHOD:PUBLISH
X-PUBLISHED-TTL:P3D
REFRESH-INTERVAL:P3D
CALSCALE:GREGORIAN
BEGIN:VEVENT
DTSTART:20250411T233000Z
DTEND:20250412T020000Z
X-MICROSOFT-CDO-ALLDAYEVENT:FALSE
SUMMARY:UT Tyler Homecoming Concert
DESCRIPTION:Free concert to celebrate UT Tyler Homecoming! Performances by Joint Custody and Chris Colston.
X-ALT-DESC;FMTTYPE=text/html:Free concert to celebrate UT Tyler Homecoming! Performances by Joint Custody and Chris Colston.
LOCATION:UT Tyler Patriot Plaza\, Circle Dr\, Tyler\, TX 75799
UID:e.1648.16067
SEQUENCE:3
DTSTAMP:20260420T033036Z
URL:http://business.tylertexas.com/events/details/ut-tyler-homecoming-concert-16067
END:VEVENT

END:VCALENDAR
