BEGIN:VCALENDAR
VERSION:2.0
PRODID:-//ChamberMaster//Event Calendar 2.0//EN
METHOD:PUBLISH
X-PUBLISHED-TTL:P3D
REFRESH-INTERVAL:P3D
CALSCALE:GREGORIAN
BEGIN:VEVENT
DTSTART:20250719T130000Z
DTEND:20250720T210000Z
X-MICROSOFT-CDO-ALLDAYEVENT:FALSE
SUMMARY:BEC/NTHJC Hunter Jumper Horse Show
DESCRIPTION:Horse & rider combination of all ages and levels compete over pre-set obstacles in multiple arenas. Fun for the entire family to watch.
X-ALT-DESC;FMTTYPE=text/html:Horse &amp\; rider combination of all ages and levels compete over pre-set obstacles in multiple arenas. Fun for the entire family to watch.
LOCATION:Texas Rose Horse Park
UID:e.1648.15940
SEQUENCE:3
DTSTAMP:20260419T144707Z
URL:https://business.tylertexas.com/events/details/bec-nthjc-hunter-jumper-horse-show-15940
END:VEVENT

END:VCALENDAR
