BEGIN:VCALENDAR
VERSION:2.0
PRODID:-//ChamberMaster//Event Calendar 2.0//EN
METHOD:PUBLISH
X-PUBLISHED-TTL:P3D
REFRESH-INTERVAL:P3D
CALSCALE:GREGORIAN
BEGIN:VEVENT
DTSTART:20250707T130000Z
DTEND:20250710T170000Z
X-MICROSOFT-CDO-ALLDAYEVENT:FALSE
SUMMARY:Brunson Equestrian Summer Horse Camp Session IV
DESCRIPTION:BEC Summer Camp Program is an excellent introduction for children who want to learn about and ride horses\, and an Advanced Camp Program provides more extensive instruction for those already in lessons or with previous horse experience.
X-ALT-DESC;FMTTYPE=text/html:BEC Summer Camp Program is an excellent introduction for children who want to learn about and ride horses\, and an Advanced Camp Program provides more extensive instruction for those already in lessons or with previous horse experience.
LOCATION:Texas Rose Horse Park
UID:e.1648.15966
SEQUENCE:3
DTSTAMP:20260419T144630Z
URL:https://business.tylertexas.com/events/details/brunson-equestrian-summer-horse-camp-session-iv-15966
END:VEVENT

END:VCALENDAR
