BEGIN:VCALENDAR
VERSION:2.0
PRODID:-//ChamberMaster//Event Calendar 2.0//EN
METHOD:PUBLISH
X-PUBLISHED-TTL:P3D
REFRESH-INTERVAL:P3D
CALSCALE:GREGORIAN
BEGIN:VEVENT
DTSTART:20240930T140000Z
DTEND:20240930T180000Z
X-MICROSOFT-CDO-ALLDAYEVENT:FALSE
SUMMARY:Tee Off for Toys Golf Tournament
DESCRIPTION:The 14th annual "Tee Off for Toys" Golf Tournament is hosted by the Tyler Professional Firefighters Association and benefits The Salvation Army's Angel Tree Program. Four-person scramble. Players are asked to bring an unwrapped toy.
X-ALT-DESC;FMTTYPE=text/html:The 14th annual &quot\;Tee Off for Toys&quot\; Golf Tournament is hosted by the Tyler Professional Firefighters Association and benefits The Salvation Army&#39\;s Angel Tree Program. Four-person scramble. Players are asked to bring an unwrapped toy.
LOCATION:Hideaway Lake Golf Course 101 Hideaway Lane Central Hideaway\, Texas 75771
UID:e.1648.15604
SEQUENCE:3
DTSTAMP:20260419T120318Z
URL:https://business.tylertexas.com/events/details/tee-off-for-toys-golf-tournament-09-30-2024-15604
END:VEVENT

END:VCALENDAR
